  
BEGIN:VCALENDAR
VERSION:2.0
PRODID:-//Convey Tech Labs - ECPv6.15.15//NONSGML v1.0//EN
CALSCALE:GREGORIAN
METHOD:PUBLISH
X-ORIGINAL-URL:https://conveytechlabs.com
X-WR-CALDESC:Events for Convey Tech Labs
REFRESH-INTERVAL;VALUE=DURATION:PT1H
X-Robots-Tag:noindex
X-PUBLISHED-TTL:PT1H
BEGIN:VTIMEZONE
TZID:UTC
BEGIN:STANDARD
TZOFFSETFROM:+0000
TZOFFSETTO:+0000
TZNAME:UTC
DTSTART:20240101T000000
END:STANDARD
END:VTIMEZONE
BEGIN:VEVENT
DTSTART;TZID=UTC:20251121T163000
DTEND;TZID=UTC:20251121T173000
DTSTAMP:20260423T161610
CREATED:20251107T054956Z
LAST-MODIFIED:20251107T054956Z
UID:48726-1763742600-1763746200@conveytechlabs.com
SUMMARY:One Platform\, Endless Possibilities Zoho one for SME's - 21 November
DESCRIPTION:
URL:https://conveytechlabs.com/events/one-platform-endless-possibilities-zoho-one-for-smes-21-november/
END:VEVENT
BEGIN:VEVENT
DTSTART;TZID=UTC:20251024T163000
DTEND;TZID=UTC:20251024T173000
DTSTAMP:20260423T161610
CREATED:20250923T041525Z
LAST-MODIFIED:20250923T044438Z
UID:48035-1761323400-1761327000@conveytechlabs.com
SUMMARY:One Platform\, Endless Possibilities Zoho one for SME's
DESCRIPTION:
URL:https://conveytechlabs.com/events/one-platform-endless-possibilities-zoho-one-for-smes/
END:VEVENT
END:VCALENDAR